BEGIN:VCALENDAR
VERSION:2.0
PRODID:-//Warren Point Presbyterian Church - ECPv5.14.1//NONSGML v1.0//EN
CALSCALE:GREGORIAN
METHOD:PUBLISH
X-WR-CALNAME:Warren Point Presbyterian Church
X-ORIGINAL-URL:http://www.warrenpointpc.org
X-WR-CALDESC:Events for Warren Point Presbyterian Church
BEGIN:VTIMEZONE
TZID:America/New_York
BEGIN:DAYLIGHT
TZOFFSETFROM:-0500
TZOFFSETTO:-0400
TZNAME:EDT
DTSTART:20180311T070000
END:DAYLIGHT
BEGIN:STANDARD
TZOFFSETFROM:-0400
TZOFFSETTO:-0500
TZNAME:EST
DTSTART:20181104T060000
END:STANDARD
END:VTIMEZONE
BEGIN:VEVENT
DTSTART;VALUE=DATE:20181230
DTEND;VALUE=DATE:20190101
DTSTAMP:20260422T174639
CREATED:20181129T201753Z
LAST-MODIFIED:20181129T201753Z
UID:3908-1546146000-1546232399@www.warrenpointpc.org
SUMMARY:1st Sunday after Christmas
DESCRIPTION:
URL:http://www.warrenpointpc.org/event/1st-sunday-after-christmas/
END:VEVENT
END:VCALENDAR