BEGIN:VCALENDAR
VERSION:2.0
PRODID:-//Warren Point Presbyterian Church - ECPv5.14.1//NONSGML v1.0//EN
CALSCALE:GREGORIAN
METHOD:PUBLISH
X-WR-CALNAME:Warren Point Presbyterian Church
X-ORIGINAL-URL:http://www.warrenpointpc.org
X-WR-CALDESC:Events for Warren Point Presbyterian Church
BEGIN:VTIMEZONE
TZID:America/New_York
BEGIN:DAYLIGHT
TZOFFSETFROM:-0500
TZOFFSETTO:-0400
TZNAME:EDT
DTSTART:20180311T070000
END:DAYLIGHT
BEGIN:STANDARD
TZOFFSETFROM:-0400
TZOFFSETTO:-0500
TZNAME:EST
DTSTART:20181104T060000
END:STANDARD
END:VTIMEZONE
BEGIN:VEVENT
DTSTART;TZID=America/New_York:20180401T230000
DTEND;TZID=America/New_York:20180402T003000
DTSTAMP:20260422T212818
CREATED:20180322T234508Z
LAST-MODIFIED:20180323T034420Z
UID:2749-1522623600-1522629000@www.warrenpointpc.org
SUMMARY:Alanon
DESCRIPTION:
URL:http://www.warrenpointpc.org/event/alanon/
END:VEVENT
END:VCALENDAR