BEGIN:VCALENDAR
VERSION:2.0
PRODID:-//Warren Point Presbyterian Church - ECPv5.14.1//NONSGML v1.0//EN
CALSCALE:GREGORIAN
METHOD:PUBLISH
X-WR-CALNAME:Warren Point Presbyterian Church
X-ORIGINAL-URL:http://www.warrenpointpc.org
X-WR-CALDESC:Events for Warren Point Presbyterian Church
BEGIN:VTIMEZONE
TZID:America/New_York
BEGIN:DAYLIGHT
TZOFFSETFROM:-0500
TZOFFSETTO:-0400
TZNAME:EDT
DTSTART:20180311T070000
END:DAYLIGHT
BEGIN:STANDARD
TZOFFSETFROM:-0400
TZOFFSETTO:-0500
TZNAME:EST
DTSTART:20181104T060000
END:STANDARD
END:VTIMEZONE
BEGIN:VEVENT
DTSTART;TZID=America/New_York:20180328T233000
DTEND;TZID=America/New_York:20180329T010000
DTSTAMP:20260422T110150
CREATED:20180226T001305Z
LAST-MODIFIED:20180226T001305Z
UID:2708-1522279800-1522285200@www.warrenpointpc.org
SUMMARY:Boy Scout Troop 60
DESCRIPTION:
URL:http://www.warrenpointpc.org/event/boy-scout-troop-60-107/
CATEGORIES:Boy Scout Troop 60
END:VEVENT
END:VCALENDAR