BEGIN:VCALENDAR
VERSION:2.0
PRODID:-//Warren Point Presbyterian Church - ECPv5.14.1//NONSGML v1.0//EN
CALSCALE:GREGORIAN
METHOD:PUBLISH
X-WR-CALNAME:Warren Point Presbyterian Church
X-ORIGINAL-URL:http://www.warrenpointpc.org
X-WR-CALDESC:Events for Warren Point Presbyterian Church
BEGIN:VTIMEZONE
TZID:America/New_York
BEGIN:DAYLIGHT
TZOFFSETFROM:-0500
TZOFFSETTO:-0400
TZNAME:EDT
DTSTART:20180311T070000
END:DAYLIGHT
BEGIN:STANDARD
TZOFFSETFROM:-0400
TZOFFSETTO:-0500
TZNAME:EST
DTSTART:20181104T060000
END:STANDARD
END:VTIMEZONE
BEGIN:VEVENT
DTSTART;TZID=America/New_York:20180325T143000
DTEND;TZID=America/New_York:20180325T153000
DTSTAMP:20260422T093738
CREATED:20180226T000944Z
LAST-MODIFIED:20180226T000944Z
UID:2704-1521988200-1521991800@www.warrenpointpc.org
SUMMARY:Morning Worship
DESCRIPTION:
URL:http://www.warrenpointpc.org/event/morning-worship-121/
CATEGORIES:Morning Worship
END:VEVENT
END:VCALENDAR