BEGIN:VCALENDAR
VERSION:2.0
PRODID:-//Warren Point Presbyterian Church - ECPv5.14.1//NONSGML v1.0//EN
CALSCALE:GREGORIAN
METHOD:PUBLISH
X-WR-CALNAME:Warren Point Presbyterian Church
X-ORIGINAL-URL:http://www.warrenpointpc.org
X-WR-CALDESC:Events for Warren Point Presbyterian Church
BEGIN:VTIMEZONE
TZID:America/New_York
BEGIN:DAYLIGHT
TZOFFSETFROM:-0500
TZOFFSETTO:-0400
TZNAME:EDT
DTSTART:20180311T070000
END:DAYLIGHT
BEGIN:STANDARD
TZOFFSETFROM:-0400
TZOFFSETTO:-0500
TZNAME:EST
DTSTART:20181104T060000
END:STANDARD
END:VTIMEZONE
BEGIN:VEVENT
DTSTART;VALUE=DATE:20180401
DTEND;VALUE=DATE:20180403
DTSTAMP:20260422T104523
CREATED:20180322T233928Z
LAST-MODIFIED:20180322T233928Z
UID:2737-1522555200-1522641599@www.warrenpointpc.org
SUMMARY:Resurrection of the Lord/Easter Day
DESCRIPTION:
URL:http://www.warrenpointpc.org/event/resurrection-lordeaster-day/
END:VEVENT
END:VCALENDAR